BEGIN:VCALENDAR
VERSION:2.0
PRODID:-// eRoom plugin //NONSGML v1.0//EN
CALSCALE:GREGORIAN
BEGIN:VEVENT
UID:eRoom-1776763636
SUMMARY:Ipar 4.0 online konzultáció 2021 február
LOCATION:Zoom
DESCRIPTION:Részletek később \n\n---\n\nIpar 4.0 online konzultáció 20
 21 február is inviting you to a scheduled Zoom meeting.\n\nJoin Zoom Meet
 ing\nhttps://zoom.us/j/94878376193?pwd=WFBZUlRta2RnYkxyVGVIQXZNTVFwZz09\n
 \nMeeting ID: 94878376193\nPasscode: s3lki4\n
URL;VALUE=URI:https://zoom.us/j/94878376193?pwd=WFBZUlRta2RnYkxyVGVIQXZNTVFwZz09
DTSTART:20210210T150000Z
DTEND:20210210T160000Z
DTSTAMP:20260421T092716Z
BEGIN:VALARM
ACTION:DISPLAY
DESCRIPTION:Reminder
TRIGGER;RELATED=START:-PT15M
END:VALARM
END:VEVENT
END:VCALENDAR